BEGIN:VCALENDAR
VERSION:2.0
PRODID:-//Squarespace Inc/Squarespace 6//v6//EN
BEGIN:VEVENT
UID:5bb2cf18085229cc48264e69@squarespace.com
DTSTAMP:20181002T020614Z
DTSTART:20181102T000000Z
DTEND:20181102T010000Z
SUMMARY:Buskers II
END:VEVENT
END:VCALENDAR
