BEGIN:VCALENDAR
VERSION:2.0
PRODID:-//Squarespace Inc/Squarespace 6//v6//EN
BEGIN:VEVENT
UID:5b91d265575d1f6f954bd0ab@squarespace.com
DTSTAMP:20181023T040827Z
DTSTART:20181027T020000Z
DTEND:20181027T030000Z
SUMMARY:Early Childhood Kapa Haka - CANCELLED
END:VEVENT
END:VCALENDAR
