BEGIN:VCALENDAR
VERSION:2.0
PRODID:-//Squarespace Inc/Squarespace 6//v6//EN
BEGIN:VEVENT
UID:5b57c89eaa4a99e9296d4019@squarespace.com
DTSTAMP:20181009T030720Z
DTSTART:20181027T000000Z
DTEND:20181027T010000Z
SUMMARY:Soggy Doggy Splash
GEO:-45.24214;169.382025
LOCATION:Molyneux Aquatic Centre\, Alexandra
END:VEVENT
END:VCALENDAR
