BEGIN:VCALENDAR
VERSION:2.0
PRODID:-//Squarespace Inc/Squarespace 6//v6//EN
BEGIN:VEVENT
UID:5b5a8be9aa4a995ec918b96e@squarespace.com
DTSTAMP:20181025T191844Z
DTSTART:20181026T203000Z
DTEND:20181027T033000Z
SUMMARY:Totara Forest Walk - CANCELLED
GEO:-45.249731;169.386386
LOCATION:Alexandra Community House\, Centennial Ave\, Alexandra\, New Zeala
 nd
END:VEVENT
END:VCALENDAR
