BEGIN:VCALENDAR
VERSION:2.0
PRODID:-//Squarespace Inc/Squarespace 6//v6//EN
BEGIN:VEVENT
UID:5bb683587817f791f05ea548@squarespace.com
DTSTAMP:20181009T020744Z
DTSTART:20181122T060000Z
DTEND:20181122T083000Z
SUMMARY:Beer &amp\; Climate Change: You no longer have to choose!
END:VEVENT
END:VCALENDAR
