BEGIN:VCALENDAR
VERSION:2.0
PRODID:-//Squarespace Inc/Squarespace 6//v6//EN
BEGIN:VEVENT
UID:5bb2dbbbf9619a567ecf39d1@squarespace.com
DTSTAMP:20181002T031145Z
DTSTART:20181101T000000Z
DTEND:20181101T010000Z
SUMMARY:Buskers II
END:VEVENT
END:VCALENDAR
