BEGIN:VCALENDAR
VERSION:2.0
PRODID:-//Squarespace Inc/Squarespace 6//v6//EN
BEGIN:VEVENT
UID:5bb2ce49b208fc39ef0c5f8d@squarespace.com
DTSTAMP:20181002T015030Z
DTSTART:20181101T220000Z
DTEND:20181101T230000Z
SUMMARY:Buskers I
END:VEVENT
END:VCALENDAR
