BEGIN:VCALENDAR
VERSION:2.0
PRODID:-//Squarespace Inc/Squarespace 6//v6//EN
BEGIN:VEVENT
UID:5b91c277aa4a99c4350c048a@squarespace.com
DTSTAMP:20181008T211958Z
DTSTART:20181103T213000Z
DTEND:20181104T020000Z
SUMMARY:West African Drum &amp\; Dance - Adults II
END:VEVENT
END:VCALENDAR
