BEGIN:VCALENDAR
VERSION:2.0
PRODID:-//Squarespace Inc/Squarespace 6//v6//EN
BEGIN:VEVENT
UID:5b8f117103ce64bd6fec72a1@squarespace.com
DTSTAMP:20181031T210424Z
DTSTART:20181102T233000Z
DTEND:20181103T023000Z
SUMMARY:Sustainable House Tour II(please note we will now meet at 12.30pm a
 t ACH)
END:VEVENT
END:VCALENDAR
