BEGIN:VCALENDAR
VERSION:2.0
PRODID:-//Squarespace Inc/Squarespace 6//v6//EN
BEGIN:VEVENT
UID:5b91df60cd8366b2511d8e3f@squarespace.com
DTSTAMP:20181101T020544Z
DTSTART:20181103T210000Z
DTEND:20181104T030000Z
SUMMARY:Learn To Felt - CANCELLED :(
END:VEVENT
END:VCALENDAR
