BEGIN:VCALENDAR
VERSION:2.0
PRODID:-//Squarespace Inc/Squarespace 6//v6//EN
BEGIN:VEVENT
UID:5b2ae4fb562fa7b6e86577bd@squarespace.com
DTSTAMP:20180927T024924Z
DTSTART:20181027T030000Z
DTEND:20181027T060000Z
SUMMARY:Light Party 2018
END:VEVENT
END:VCALENDAR
