BEGIN:VCALENDAR
VERSION:2.0
PRODID:-//Squarespace Inc/Squarespace 6//v6//EN
BEGIN:VEVENT
UID:5b8c8d3d562fa736b2f7f847@squarespace.com
DTSTAMP:20180926T022316Z
DTSTART:20181026T230000Z
DTEND:20181027T020000Z
SUMMARY:The Great Duck Race
GEO:-45.25013;169.401864
LOCATION:Shaky bridge\, 16 Little Valley Rd\, Alexandra\, OTA\, 9320\, New 
 Zealand
END:VEVENT
END:VCALENDAR
