BEGIN:VCALENDAR
VERSION:2.0
PRODID:-//Squarespace Inc/Squarespace 6//v6//EN
BEGIN:VEVENT
UID:599e2d13f7e0aba9e95fb9b2@squarespace.com
DTSTAMP:20170913T072824Z
DTSTART:20171029T233000Z
DTEND:20171030T003000Z
SUMMARY:Lunchbox Conversation: Microfibres
END:VEVENT
END:VCALENDAR
