BEGIN:VCALENDAR
VERSION:2.0
PRODID:-//Squarespace Inc/Squarespace 6//v6//EN
BEGIN:VEVENT
UID:59b21e3dcd0f685d6d1c256e@squarespace.com
DTSTAMP:20170926T214445Z
DTSTART:20171028T030000Z
DTEND:20171028T060000Z
SUMMARY:Alexandra Light Party
GEO:-45.253974;169.39199
LOCATION:Pioneer Park\, 21 Centennial Avenue\, Alexandra\, Otago\, 9320\, N
 ew Zealand
END:VEVENT
END:VCALENDAR
