BEGIN:VCALENDAR
VERSION:2.0
PRODID:-//Squarespace Inc/Squarespace 6//v6//EN
BEGIN:VEVENT
UID:59b844422aeba5bcafde3fbb@squarespace.com
DTSTAMP:20170921T031852Z
DTSTART:20171028T203000Z
DTEND:20171029T033000Z
SUMMARY:Working Artist: Tracy Osborne
END:VEVENT
END:VCALENDAR
