BEGIN:VCALENDAR
VERSION:2.0
PRODID:-//Squarespace Inc/Squarespace 6//v6//EN
BEGIN:VEVENT
UID:59ab7d3bd482e948b5812d48@squarespace.com
DTSTAMP:20170920T023129Z
DTSTART:20171028T233000Z
DTEND:20171029T003000Z
SUMMARY:Soggy Doggy Splash
GEO:-45.232815;169.372381
LOCATION:Molyneux Swimming Pool\, Alexandra\, New Zealand
END:VEVENT
END:VCALENDAR
