BEGIN:VCALENDAR
VERSION:2.0
PRODID:-//Squarespace Inc/Squarespace 6//v6//EN
BEGIN:VEVENT
UID:59a5e7096f4ca3fcaa50551b@squarespace.com
DTSTAMP:20170918T232627Z
DTSTART:20171029T030000Z
DTEND:20171029T040000Z
SUMMARY:Thyme Festival Opening
END:VEVENT
END:VCALENDAR
