BEGIN:VCALENDAR
VERSION:2.0
PRODID:-//Squarespace Inc/Squarespace 6//v6//EN
BEGIN:VEVENT
UID:595ef99d17bffcca08837276@squarespace.com
DTSTAMP:20170913T072409Z
DTSTART:20171029T230000Z
DTEND:20171030T000000Z
SUMMARY:Lunchtime Concert - Kapa Haka 
GEO:-45.255073;169.391892
LOCATION:The Village Green\, 12 Centennial Avenue\, Alexandra\, Otago\, 932
 0\, New Zealand
END:VEVENT
END:VCALENDAR
