BEGIN:VCALENDAR
VERSION:2.0
PRODID:-//Squarespace Inc/Squarespace 6//v6//EN
BEGIN:VEVENT
UID:59a5e858914e6bd5a7a30c08@squarespace.com
DTSTAMP:20171026T004710Z
DTSTART:20171030T050000Z
DTEND:20171030T070000Z
SUMMARY:Marion Vialade - Print Making
END:VEVENT
END:VCALENDAR
