BEGIN:VCALENDAR
VERSION:2.0
PRODID:-//Squarespace Inc/Squarespace 6//v6//EN
BEGIN:VEVENT
UID:599e4a44f14aa12f9f6b7859@squarespace.com
DTSTAMP:20170917T212204Z
DTSTART:20171030T023000Z
DTEND:20171030T040000Z
SUMMARY:Marion Vialade - After School Workshop
GEO:32.797051;-96.813838
LOCATION:Alexandra Community House\, alexan
END:VEVENT
END:VCALENDAR
