BEGIN:VCALENDAR
VERSION:2.0
PRODID:-//Squarespace Inc/Squarespace 6//v6//EN
BEGIN:VEVENT
UID:59bf54eb4c326d99b6dcd8cd@squarespace.com
DTSTAMP:20170919T234948Z
DTSTART:20171031T001500Z
DTEND:20171031T011500Z
SUMMARY:Working Artist: Maxine Williams
END:VEVENT
END:VCALENDAR
