BEGIN:VCALENDAR
VERSION:2.0
PRODID:-//Squarespace Inc/Squarespace 6//v6//EN
BEGIN:VEVENT
UID:59bf548f37c5814ba06dffa1@squarespace.com
DTSTAMP:20170920T115625Z
DTSTART:20171030T001500Z
DTEND:20171030T011500Z
SUMMARY:Working Artist: Maxine Williams
END:VEVENT
END:VCALENDAR
