BEGIN:VCALENDAR
VERSION:2.0
PRODID:-//Squarespace Inc/Squarespace 6//v6//EN
BEGIN:VEVENT
UID:59b8e47037c581dddc1276fb@squarespace.com
DTSTAMP:20170920T115814Z
DTSTART:20171030T210000Z
DTEND:20171031T030000Z
SUMMARY:Co-op Thyme
GEO:-45.188431;169.318887
LOCATION:60 Sunderland Street\, Clyde\, Otago\, 9330\, New Zealand
END:VEVENT
END:VCALENDAR
