BEGIN:VCALENDAR
VERSION:2.0
PRODID:-//Squarespace Inc/Squarespace 6//v6//EN
BEGIN:VEVENT
UID:59af2ec6ccc5c50550ff9236@squarespace.com
DTSTAMP:20170920T011523Z
DTSTART:20171030T210000Z
DTEND:20171031T020000Z
SUMMARY:Daphne's Domino Diamonds
END:VEVENT
END:VCALENDAR
