BEGIN:VCALENDAR
VERSION:2.0
PRODID:-//Squarespace Inc/Squarespace 6//v6//EN
BEGIN:VEVENT
UID:599e2ec4e58c62bd9c7277aa@squarespace.com
DTSTAMP:20170920T011740Z
DTSTART:20171030T233000Z
DTEND:20171031T003000Z
SUMMARY:Lunchbox Conversation: Fast Fashion
END:VEVENT
END:VCALENDAR
