BEGIN:VCALENDAR
VERSION:2.0
PRODID:-//Squarespace Inc/Squarespace 6//v6//EN
BEGIN:VEVENT
UID:59a5e8cc7131a5b9fdf5f1bc@squarespace.com
DTSTAMP:20170913T081931Z
DTSTART:20171030T230000Z
DTEND:20171031T000000Z
SUMMARY:Lunchtime Concert - Dunstan High School
GEO:-45.255073;169.391892
LOCATION:12 Centennial Avenue\, Alexandra\, Otago\, 9320\, New Zealand
END:VEVENT
END:VCALENDAR
