BEGIN:VCALENDAR
VERSION:2.0
PRODID:-//Squarespace Inc/Squarespace 6//v6//EN
BEGIN:VEVENT
UID:59bb340ebe42d609bf635c69@squarespace.com
DTSTAMP:20170920T011606Z
DTSTART:20171030T210000Z
DTEND:20171030T230000Z
SUMMARY:Working Artist: Sean Boyd
END:VEVENT
END:VCALENDAR
