BEGIN:VCALENDAR
VERSION:2.0
PRODID:-//Squarespace Inc/Squarespace 6//v6//EN
BEGIN:VEVENT
UID:595ca8f96a4963f70caf7cb4@squarespace.com
DTSTAMP:20170928T090132Z
DTSTART:20171101T063000Z
DTEND:20171101T090000Z
SUMMARY:PechaKucha Night Alexandra
GEO:-45.256136;169.393822
LOCATION:Alexandra Community Centre\, 3-15 Skird Street\, Alexandra\, Otago
 \, 9320\, New Zealand
END:VEVENT
END:VCALENDAR
