BEGIN:VCALENDAR
VERSION:2.0
PRODID:-//Squarespace Inc/Squarespace 6//v6//EN
BEGIN:VEVENT
UID:59bb3a1137c581deebf93bc7@squarespace.com
DTSTAMP:20170920T114842Z
DTSTART:20171031T210000Z
DTEND:20171031T230000Z
SUMMARY:Working Artist: Liz Conway 
END:VEVENT
END:VCALENDAR
