BEGIN:VCALENDAR
VERSION:2.0
PRODID:-//Squarespace Inc/Squarespace 6//v6//EN
BEGIN:VEVENT
UID:59a5ea307131a5b9fdf60cdb@squarespace.com
DTSTAMP:20170913T093512Z
DTSTART:20171101T230000Z
DTEND:20171102T000000Z
SUMMARY:Lunchtime Concerts - Community Groups
GEO:-45.255073;169.391892
LOCATION:12 Centennial Avenue\, Alexandra\, Otago\, 9320\, New Zealand
END:VEVENT
END:VCALENDAR
