BEGIN:VCALENDAR
VERSION:2.0
PRODID:-//Squarespace Inc/Squarespace 6//v6//EN
BEGIN:VEVENT
UID:59b5dc3503596ecddf0035d9@squarespace.com
DTSTAMP:20170920T015124Z
DTSTART:20171102T040000Z
DTEND:20171102T050000Z
SUMMARY:Line Dancing Beginner Session
GEO:45.522342;-123.08506
LOCATION:Masonic Lodge
END:VEVENT
END:VCALENDAR
