BEGIN:VCALENDAR
VERSION:2.0
PRODID:-//Squarespace Inc/Squarespace 6//v6//EN
BEGIN:VEVENT
UID:59b5c7eeccc5c5736a3d8f82@squarespace.com
DTSTAMP:20170920T015515Z
DTSTART:20171101T210000Z
DTEND:20171101T220000Z
SUMMARY:Parents & Babies Yoga
END:VEVENT
END:VCALENDAR
