BEGIN:VCALENDAR
VERSION:2.0
PRODID:-//Squarespace Inc/Squarespace 6//v6//EN
BEGIN:VEVENT
UID:59b5d3b4e3df28d573ca82dd@squarespace.com
DTSTAMP:20170920T014942Z
DTSTART:20171102T011500Z
DTEND:20171102T020000Z
SUMMARY:Foot Reflexology for Beginners
END:VEVENT
END:VCALENDAR
