BEGIN:VCALENDAR
VERSION:2.0
PRODID:-//Squarespace Inc/Squarespace 6//v6//EN
BEGIN:VEVENT
UID:595d72c2b8a79be945f6bf25@squarespace.com
DTSTAMP:20170920T120252Z
DTSTART:20171101T210000Z
DTEND:20171102T070000Z
SUMMARY:Personal Wellness: Taster Day
GEO:-45.254497;169.391282
LOCATION:COREAP\, 14-20 Centennial Avenue\, Alexandra\, Otago\, 9320\, New 
 Zealand
END:VEVENT
END:VCALENDAR
