BEGIN:VCALENDAR
VERSION:2.0
PRODID:-//Squarespace Inc/Squarespace 6//v6//EN
BEGIN:VEVENT
UID:599a47f7f7e0abf8e325ffd4@squarespace.com
DTSTAMP:20171002T033528Z
DTSTART:20171029T210000Z
DTEND:20171029T220000Z
SUMMARY:Plants Taste Great
GEO:-45.232815;169.372381
LOCATION:New World Supermarket\, Alexandra\, New Zealand
END:VEVENT
END:VCALENDAR
