BEGIN:VCALENDAR
VERSION:2.0
PRODID:-//Squarespace Inc/Squarespace 6//v6//EN
BEGIN:VEVENT
UID:599e3179f14aa12f9f6a1576@squarespace.com
DTSTAMP:20170920T015745Z
DTSTART:20171030T050000Z
DTEND:20171030T070000Z
SUMMARY:Pack & Ride!
GEO:-45.249905;169.386554
LOCATION:Alexandra Community House\, centennial ave\, alexandra\, new zeala
 nd
END:VEVENT
END:VCALENDAR
