BEGIN:VCALENDAR
VERSION:2.0
PRODID:-//Squarespace Inc/Squarespace 6//v6//EN
BEGIN:VEVENT
UID:599e2f5dcd39c3e0d5a0c0f0@squarespace.com
DTSTAMP:20170920T114522Z
DTSTART:20171031T233000Z
DTEND:20171101T003000Z
SUMMARY:Lunchbox Conversation: Doughnut Economics
END:VEVENT
END:VCALENDAR
