BEGIN:VCALENDAR
VERSION:2.0
PRODID:-//Squarespace Inc/Squarespace 6//v6//EN
BEGIN:VEVENT
UID:59a4bff137c5810f8dbb69bc@squarespace.com
DTSTAMP:20170919T041426Z
DTSTART:20171029T000000Z
DTEND:20171029T020000Z
SUMMARY:Geocaching Comp
END:VEVENT
END:VCALENDAR
