BEGIN:VCALENDAR
VERSION:2.0
PRODID:-//Squarespace Inc/Squarespace 6//v6//EN
BEGIN:VEVENT
UID:59b888d7e3df28bf0e25ae2f@squarespace.com
DTSTAMP:20170920T115702Z
DTSTART:20171030T010000Z
DTEND:20171030T020000Z
SUMMARY:The Human Library - Chapter 1
END:VEVENT
END:VCALENDAR
