BEGIN:VCALENDAR
VERSION:2.0
PRODID:-//Squarespace Inc/Squarespace 6//v6//EN
BEGIN:VEVENT
UID:59a4d43bcf81e07eb2beb32c@squarespace.com
DTSTAMP:20170918T062711Z
DTSTART:20171101T233000Z
DTEND:20171102T003000Z
SUMMARY:Waste Free Periods
END:VEVENT
END:VCALENDAR
