BEGIN:VCALENDAR
VERSION:2.0
PRODID:-//Squarespace Inc/Squarespace 6//v6//EN
BEGIN:VEVENT
UID:59825ae11e5b6cbe2af0dd19@squarespace.com
DTSTAMP:20170920T022800Z
DTSTART:20171028T203000Z
DTEND:20171028T230000Z
SUMMARY:Four Paws for SPCA
GEO:33.562213;-112.234053
LOCATION:Pioneer Park
END:VEVENT
END:VCALENDAR
