BEGIN:VCALENDAR
VERSION:2.0
PRODID:-//Squarespace Inc/Squarespace 6//v6//EN
BEGIN:VEVENT
UID:59825bf1197aeab8ce352299@squarespace.com
DTSTAMP:20171030T011641Z
DTSTART:20171030T060000Z
DTEND:20171030T083000Z
SUMMARY: Scottish Plant Explorer
GEO:-45.256031;169.3937
LOCATION:Community Hall\, Skird Street\, Alexandra\, Otago\, 9320\, New Zea
 land
END:VEVENT
END:VCALENDAR
