BEGIN:VCALENDAR
VERSION:2.0
PRODID:-//Squarespace Inc/Squarespace 6//v6//EN
BEGIN:VEVENT
UID:59b5ce36a9db0927a10f1ca2@squarespace.com
DTSTAMP:20170917T210651Z
DTSTART:20171102T001500Z
DTEND:20171102T010500Z
SUMMARY:Trauma Sensitive Yoga
END:VEVENT
END:VCALENDAR
