BEGIN:VCALENDAR
VERSION:2.0
PRODID:-//Squarespace Inc/Squarespace 6//v6//EN
BEGIN:VEVENT
UID:59b5c9c8a9db0927a10ee3f8@squarespace.com
DTSTAMP:20170920T014703Z
DTSTART:20171101T220000Z
DTEND:20171101T230000Z
SUMMARY:Thyme for Yoga
END:VEVENT
END:VCALENDAR
