BEGIN:VCALENDAR
VERSION:2.0
PRODID:-//Squarespace Inc/Squarespace 6//v6//EN
BEGIN:VEVENT
UID:59bf5478914e6bfb8ead6767@squarespace.com
DTSTAMP:20170920T115951Z
DTSTART:20171101T203000Z
DTEND:20171101T230000Z
SUMMARY:Working artist: Maxine Williams
END:VEVENT
END:VCALENDAR
