BEGIN:VCALENDAR
VERSION:2.0
PRODID:-//Squarespace Inc/Squarespace 6//v6//EN
BEGIN:VEVENT
UID:59bf544af6576ec1ed7fdc29@squarespace.com
DTSTAMP:20170920T114947Z
DTSTART:20171030T203000Z
DTEND:20171030T230000Z
SUMMARY:Working artist: Maxine Williams
END:VEVENT
END:VCALENDAR
