BEGIN:VCALENDAR
VERSION:2.0
PRODID:-//Squarespace Inc/Squarespace 6//v6//EN
BEGIN:VEVENT
UID:59bee9f529f187c6f3a78e36@squarespace.com
DTSTAMP:20170920T115559Z
DTSTART:20171029T203000Z
DTEND:20171029T230000Z
SUMMARY:Working Artist: Maxine Williams
END:VEVENT
END:VCALENDAR
